BEGIN:VCALENDAR
VERSION:2.0
PRODID:-//hacksw/handcal//NONSGML v1.0//EN
BEGIN:VEVENT
SUMMARY:Chpts departementaux
UID:bdc983be-ae4e-4271-827b-afe92cc8de87
DTSTART:20260530T220000Z
DTEND:20260531T220000Z
LOCATION:Localisation   Chartres
CATEGORIES:Sportif
STATUS:
URL;VALUE=URI:https://www.eco-cjf.com/evenements/2026/05/31/chpts-departementaux-2430883
END:VEVENT
END:VCALENDAR
