BEGIN:VCALENDAR
VERSION:2.0
PRODID:-//hacksw/handcal//NONSGML v1.0//EN
BEGIN:VEVENT
SUMMARY:Meeting regional
UID:fecc6075-8c6b-4586-b7de-a8ce01c42ee2
DTSTART:20260604T220000Z
DTEND:20260606T220000Z
LOCATION:Localisation   La source
CATEGORIES:Sportif
STATUS:
URL;VALUE=URI:https://www.eco-cjf.com/evenements/2026/06/05/meeting-regional-2430884
END:VEVENT
END:VCALENDAR
