BEGIN:VCALENDAR
VERSION:2.0
PRODID:-//hacksw/handcal//NONSGML v1.0//EN
BEGIN:VEVENT
SUMMARY:Chpts regionaux U16
UID:3f3fb274-4372-4677-a5b8-452d49f4cb60
DTSTART:20260606T220000Z
DTEND:20260607T220000Z
LOCATION:Localisation   SARAN
CATEGORIES:Sportif
STATUS:
URL;VALUE=URI:https://www.eco-cjf.com/evenements/2026/06/07/chpts-regionaux-u16-2430776
END:VEVENT
END:VCALENDAR
