BEGIN:VCALENDAR
VERSION:2.0
PRODID:-//hacksw/handcal//NONSGML v1.0//EN
BEGIN:VEVENT
SUMMARY:Chpts regionaux 1ere journee
UID:66d4d85e-5adc-4658-bad5-5573775150f9
DTSTART:20260612T220000Z
DTEND:20260613T220000Z
LOCATION:Localisation   St Cyr/Loire
CATEGORIES:Sportif
STATUS:
URL;VALUE=URI:https://www.eco-cjf.com/evenements/2026/06/13/chpts-regionaux-1ere-journee-2430885
END:VEVENT
END:VCALENDAR
